{
 "currentVersion": 11.5,
 "cimVersion": "3.5.0",
 "serviceDescription": "",
 "mapName": "WestBankMap",
 "description": "",
 "copyrightText": "",
 "supportsDynamicLayers": true,
 "layers": [
  {
   "id": 16,
   "name": "Limited Access Areas",
   "parentLayerId": -1,
   "defaultVisibility": true,
   "subLayerIds": [
    17,
    18
   ],
   "minScale": 0,
   "maxScale": 0,
   "type": "Group Layer",
   "supportsDynamicLegends": false
  },
  {
   "id": 26,
   "name": "BaseMap | خريطة الاساس",
   "parentLayerId": -1,
   "defaultVisibility": true,
   "subLayerIds": [
    27,
    28,
    29,
    30
   ],
   "minScale": 0,
   "maxScale": 0,
   "type": "Group Layer",
   "supportsDynamicLegends": false
  },
  {
   "id": 31,
   "name": "srtm_n_relief_c.jp2",
   "parentLayerId": -1,
   "defaultVisibility": true,
   "subLayerIds": null,
   "minScale": 0,
   "maxScale": 100000,
   "type": "Raster Layer",
   "supportsDynamicLegends": true
  },
  {
   "id": 32,
   "name": "WaterBodies",
   "parentLayerId": -1,
   "defaultVisibility": true,
   "subLayerIds": null,
   "minScale": 0,
   "maxScale": 0,
   "type": "Feature Layer",
   "geometryType": "esriGeometryPolygon",
   "supportsDynamicLegends": true
  },
  {
   "id": 33,
   "name": "Countries",
   "parentLayerId": -1,
   "defaultVisibility": true,
   "subLayerIds": null,
   "minScale": 0,
   "maxScale": 0,
   "type": "Feature Layer",
   "geometryType": "esriGeometryPolygon",
   "supportsDynamicLegends": true
  },
  {
   "id": 34,
   "name": "Ocean\\Sea\\Lakes",
   "parentLayerId": -1,
   "defaultVisibility": true,
   "subLayerIds": null,
   "minScale": 30000000,
   "maxScale": 0,
   "type": "Feature Layer",
   "geometryType": "esriGeometryPolygon",
   "supportsDynamicLegends": true
  }
 ],
 "tables": [],
 "spatialReference": {
  "wkid": 28191,
  "latestWkid": 28191,
  "xyTolerance": 0.001,
  "zTolerance": 0.001,
  "mTolerance": 0.001,
  "falseX": -4839400,
  "falseY": -13387400,
  "xyUnits": 10000,
  "falseZ": -100000,
  "zUnits": 10000,
  "falseM": -100000,
  "mUnits": 10000
 },
 "singleFusedMapCache": true,
 "tileInfo": {
  "rows": 256,
  "cols": 256,
  "dpi": 96,
  "format": "PNG",
  "compressionQuality": 0,
  "origin": {
   "x": -4839400,
   "y": 6616800
  },
  "spatialReference": {
   "wkid": 28191,
   "latestWkid": 28191,
   "xyTolerance": 0.001,
   "zTolerance": 0.001,
   "mTolerance": 0.001,
   "falseX": -4839400,
   "falseY": -13387400,
   "xyUnits": 10000,
   "falseZ": -100000,
   "zUnits": 10000,
   "falseM": -100000,
   "mUnits": 10000
  },
  "lods": [
   {
    "level": 0,
    "resolution": 264.5838625010584,
    "scale": 1000000
   },
   {
    "level": 1,
    "resolution": 132.2919312505292,
    "scale": 500000
   },
   {
    "level": 2,
    "resolution": 66.1459656252646,
    "scale": 250000
   },
   {
    "level": 3,
    "resolution": 33.0729828126323,
    "scale": 125000
   },
   {
    "level": 4,
    "resolution": 16.933367200067735,
    "scale": 64000
   },
   {
    "level": 5,
    "resolution": 8.466683600033868,
    "scale": 32000
   },
   {
    "level": 6,
    "resolution": 4.233341800016934,
    "scale": 16000
   },
   {
    "level": 7,
    "resolution": 2.116670900008467,
    "scale": 8000
   },
   {
    "level": 8,
    "resolution": 1.0583354500042335,
    "scale": 4000
   },
   {
    "level": 9,
    "resolution": 0.5291677250021167,
    "scale": 2000
   },
   {
    "level": 10,
    "resolution": 0.26458386250105836,
    "scale": 1000
   },
   {
    "level": 11,
    "resolution": 0.13229193125052918,
    "scale": 500
   },
   {
    "level": 12,
    "resolution": 0.06614596562526459,
    "scale": 250
   },
   {
    "level": 13,
    "resolution": 0.033072982812632296,
    "scale": 125
   }
  ]
 },
 "storageInfo": {
  "storageFormat": "esriMapCacheStorageModeCompactV2",
  "packetSize": 128
 },
 "initialExtent": {
  "xmin": -67089.75817131897,
  "ymin": 25230.78495186867,
  "xmax": 335575.1522315141,
  "ymax": 255285.3753887733,
  "spatialReference": {
   "wkid": 28191,
   "latestWkid": 28191,
   "xyTolerance": 0.001,
   "zTolerance": 0.001,
   "mTolerance": 0.001,
   "falseX": -4839400,
   "falseY": -13387400,
   "xyUnits": 10000,
   "falseZ": -100000,
   "zUnits": 10000,
   "falseM": -100000,
   "mUnits": 10000
  }
 },
 "fullExtent": {
  "xmin": -54856.86145857873,
  "ymin": 28990.539110606886,
  "xmax": 359185.8996172474,
  "ymax": 259322.63810051017,
  "spatialReference": {
   "wkid": 28191,
   "latestWkid": 28191,
   "xyTolerance": 0.001,
   "zTolerance": 0.001,
   "mTolerance": 0.001,
   "falseX": -4839400,
   "falseY": -13387400,
   "xyUnits": 10000,
   "falseZ": -100000,
   "zUnits": 10000,
   "falseM": -100000,
   "mUnits": 10000
  }
 },
 "datesInUnknownTimezone": false,
 "minScale": 1000000,
 "maxScale": 1000,
 "minLOD": 0,
 "maxLOD": 10,
 "units": "esriMeters",
 "supportedImageFormatTypes": "PNG32,PNG24,PNG,JPG,DIB,TIFF,EMF,PS,PDF,GIF,SVG,SVGZ,BMP",
 "documentInfo": {
  "Title": "PostalCodes.aprx",
  "Author": "",
  "Comments": "",
  "Subject": "",
  "Category": "",
  "Version": "2.6.0",
  "AntialiasingMode": "Fast",
  "TextAntialiasingMode": "Force",
  "Keywords": "WestBankMap"
 },
 "supportsQueryDomains": true,
 "capabilities": "Query,Map,Data",
 "supportedQueryFormats": "JSON, geoJSON, PBF",
 "exportTilesAllowed": false,
 "referenceScale": 0.0,
 "datumTransformations": [
  {
   "geoTransforms": [
    {
     "wkid": 1071,
     "latestWkid": 1071,
     "transformForward": false,
     "name": "Palestine_1923_To_Israel_1"
    }
   ]
  },
  {
   "geoTransforms": [
    {
     "wkid": 1071,
     "latestWkid": 1071,
     "transformForward": true,
     "name": "Palestine_1923_To_Israel_1"
    }
   ]
  },
  {
   "geoTransforms": [
    {
     "wkid": 108021,
     "latestWkid": 108021,
     "transformForward": true,
     "name": "WGS_1984_To_Israel_CoordFrame"
    },
    {
     "wkid": 1071,
     "latestWkid": 1071,
     "transformForward": false,
     "name": "Palestine_1923_To_Israel_1"
    }
   ]
  },
  {
   "geoTransforms": [
    {
     "wkid": 1071,
     "latestWkid": 1071,
     "transformForward": true,
     "name": "Palestine_1923_To_Israel_1"
    },
    {
     "wkid": 108021,
     "latestWkid": 108021,
     "transformForward": false,
     "name": "WGS_1984_To_Israel_CoordFrame"
    }
   ]
  },
  {
   "geoTransforms": [
    {
     "wkid": 108021,
     "latestWkid": 108021,
     "transformForward": true,
     "name": "WGS_1984_To_Israel_CoordFrame"
    }
   ]
  },
  {
   "geoTransforms": [
    {
     "wkid": 108021,
     "latestWkid": 108021,
     "transformForward": false,
     "name": "WGS_1984_To_Israel_CoordFrame"
    }
   ]
  }
 ],
 "supportsDatumTransformation": true,
 "archivingInfo": {
  "supportsHistoricMoment": false
 },
 "supportsClipping": true,
 "supportsSpatialFilter": true,
 "supportsTimeRelation": true,
 "supportsQueryDataElements": true,
 "mapUnits": {
  "uwkid": 9001
 },
 "maxSelectionCount": 2000,
 "maxRecordCount": 2000,
 "maxImageHeight": 4096,
 "maxImageWidth": 4096,
 "supportedExtensions": "",
 "serviceItemId": "081a1a293b334246a4ec8f1d19208f20"
}
